BEGIN:VCALENDAR
VERSION:2.0
PRODID:-//AudioTheme 2.3.8
BEGIN:VEVENT
UID:urn:uuid:557332ae-445c-426b-92fa-88c747c9e59f
URL:https://forcedtomode.de/shows/skive-festival-2/
DTSTART;TZID=GMT:20250607T180000
SUMMARY:Skive Festival
DESCRIPTION:INFO + TICKETS
LOCATION:Skive Festival\, Strandvejen 42g\, Skive\, (DK)\, Denmark\, 7800
END:VEVENT
END:VCALENDAR
