BEGIN:VCALENDAR
VERSION:2.0
PRODID:-//AudioTheme 2.3.8
BEGIN:VEVENT
UID:urn:uuid:1405ad88-466e-4ccf-826c-d8938a0db21c
URL:https://forcedtomode.de/shows/skive-festival/
DTSTART;TZID=GMT:20230603T203000
SUMMARY:Skive Festival
DESCRIPTION:INFO + TICKETS
LOCATION:Skive Festival\, Strandvejen 42g\, Skive\, (DK)\, Denmark\, 7800
END:VEVENT
END:VCALENDAR
