BEGIN:VCALENDAR
VERSION:2.0
PRODID:-//AudioTheme 2.3.8
BEGIN:VEVENT
UID:urn:uuid:af2a235f-7cc1-4928-b872-25f0bf5c01e6
URL:https://forcedtomode.de/shows/smer-klub-77-2/
DTSTART;TZID=GMT:20240504T180000
SUMMARY:Smer Klub 77
DESCRIPTION:SOLD OUT!
LOCATION:SMER KLUB 77\, Romualda Zaymusa 72/8\, Žilina\, (SVK)\, Slovakia\, 010 01
END:VEVENT
END:VCALENDAR
