BEGIN:VCALENDAR
VERSION:2.0
PRODID:-//AudioTheme 2.3.8
BEGIN:VEVENT
UID:urn:uuid:8cd18a09-767a-48de-ae3e-0b1bbb3f77bd
URL:https://forcedtomode.de/shows/smer-klub-77/
DTSTART;TZID=GMT:20230513T180000
SUMMARY:Smer Klub 77
DESCRIPTION:SOLD OUT! 
LOCATION:SMER KLUB 77\, Romualda Zaymusa 72/8\, Žilina\, (SVK)\, Slovakia\, 010 01
END:VEVENT
END:VCALENDAR
