BEGIN:VCALENDAR
VERSION:2.0
PRODID:-//AudioTheme 2.3.8
BEGIN:VEVENT
UID:urn:uuid:4a29074c-52bf-45b7-846f-b066600b2c3e
URL:https://forcedtomode.de/shows/sono-music-club/
DTSTART;TZID=GMT:20240503T180000
SUMMARY:Sono Music Club
DESCRIPTION:INFO + TICKETS
LOCATION:Sono Music Club\, Veveří 113\, Brno\, (CZ)\, 61600
END:VEVENT
END:VCALENDAR
