BEGIN:VCALENDAR
VERSION:2.0
PRODID:-//AudioTheme 2.3.8
BEGIN:VEVENT
UID:urn:uuid:212a60bb-8d64-44e7-af2d-35783f7c443b
URL:https://forcedtomode.de/shows/stadthalle-2/
DTSTART;TZID=GMT:20251206T190000
SUMMARY:Stadthalle Cottbus
DESCRIPTION:INFO + TICKETS
LOCATION:Stadthalle Cottbus\, Berliner Platz 6\, Cottbus\, (GER)\, Germany\, 03046
END:VEVENT
END:VCALENDAR
