BEGIN:VCALENDAR
VERSION:2.0
PRODID:-//AudioTheme 2.3.8
BEGIN:VEVENT
UID:urn:uuid:1bfda21f-4262-4ec3-aa0e-b1b48e3aef47
URL:https://forcedtomode.de/shows/stadttheater-6/
DTSTART;TZID=GMT:20230421T180000
SUMMARY:Stadttheater
DESCRIPTION:SOLD OUT!
LOCATION:Stadttheater\, Theaterstraße 39\, Glauchau\, (GER)\, Germany\, 08371
END:VEVENT
END:VCALENDAR
