BEGIN:VCALENDAR
VERSION:2.0
PRODID:-//AudioTheme 2.3.8
BEGIN:VEVENT
UID:urn:uuid:29eb9b8d-812c-4460-85a6-71aa4b9bfbcd
URL:https://forcedtomode.de/shows/stagebox/
DTSTART;TZID=GMT:20230310T183000
SUMMARY:Stagebox
DESCRIPTION:INFO + TICKETS
LOCATION:Stagebox\, Refshalevej 189\, Copenhagen\, (DK)\, Denmark\, 1432
END:VEVENT
END:VCALENDAR
