BEGIN:VCALENDAR
VERSION:2.0
PRODID:-//AudioTheme 2.3.8
BEGIN:VEVENT
UID:http://forcedtomode.de/wordpress/?post_type=audiotheme_gig&#038;p=778
URL:https://forcedtomode.de/shows/stralsund-alte-brauerei/
DTSTART;TZID=GMT:20160409T180000
SUMMARY:LaLiDo
LOCATION:LaLiDo\, Langenlipsdorf 55  \, Niedergörsdorf\, (GER)\, Germany\, 14913 
END:VEVENT
END:VCALENDAR
