BEGIN:VCALENDAR
VERSION:2.0
PRODID:-//AudioTheme 2.3.8
BEGIN:VEVENT
UID:urn:uuid:e5c62b8a-70c9-4443-a3df-3ba391b7759a
URL:https://forcedtomode.de/shows/szene/
DTSTART;TZID=GMT:20240906T173000
SUMMARY:Szene
DESCRIPTION:INFO + TICKETS
LOCATION:Szene\, Hauffgasse 26\, Wien\, (AUT)\, Austria\, 1110
END:VEVENT
END:VCALENDAR
