BEGIN:VCALENDAR
VERSION:2.0
PRODID:-//AudioTheme 2.3.8
BEGIN:VEVENT
UID:urn:uuid:4e6cf6d3-7103-4f4e-82b2-b888f6d0d437
URL:https://forcedtomode.de/shows/taeubchenthal-6/
DTSTART;TZID=GMT:20221112T190000
SUMMARY:Täubchenthal
DESCRIPTION:INFO + TICKETS // 2O+2O SPECIAL 2
LOCATION:Täubchenthal\, Markranstädter Strasse 1\,\, Leipzig\, (GER)\, Germany\, 04229
END:VEVENT
END:VCALENDAR
