BEGIN:VCALENDAR
VERSION:2.0
PRODID:-//AudioTheme 2.3.8
BEGIN:VEVENT
UID:http://forcedtomode.de/wordpress/?post_type=audiotheme_gig&#038;p=810
URL:https://forcedtomode.de/shows/teltow-stadtfest-open-air/
DTSTART;TZID=GMT:20161001T180000
SUMMARY:Stadtfest (Open Air)
LOCATION:Teltow\, Stadtfest\, Rheinstraße\, Teltow\, (GER)\, Germany\, 14513
END:VEVENT
END:VCALENDAR
