BEGIN:VCALENDAR
VERSION:2.0
PRODID:-//AudioTheme 2.3.8
BEGIN:VEVENT
UID:urn:uuid:8997b2be-5856-45cd-b27d-05841902227c
URL:https://forcedtomode.de/shows/tivoli-9/
DTSTART;TZID=GMT:20220826T180000
SUMMARY:Tivoli
DESCRIPTION:INFO + TICKETS // 2O+2O SPECIAL 1
LOCATION:Tivoli\, Hannoversche Str. 9\, Bremen\, (GER)\, Germany\, 28309
END:VEVENT
END:VCALENDAR
