BEGIN:VCALENDAR
VERSION:2.0
PRODID:-//AudioTheme 2.3.8
BEGIN:VEVENT
UID:urn:uuid:53432adc-e0c0-437b-8bfc-829798826c61
URL:https://forcedtomode.de/shows/turbinenhalle/
DTSTART;TZID=GMT:20260417T180000
SUMMARY:Turbinenhalle
DESCRIPTION:BLACK CELEBRATION TOUR / / SOLD OUT!
LOCATION:Turbinenhalle\, Im Lipperfeld 23  \, Oberhausen\, (GER)\, Germany\, 46047
END:VEVENT
END:VCALENDAR
