BEGIN:VCALENDAR
VERSION:2.0
PRODID:-//AudioTheme 2.3.8
BEGIN:VEVENT
UID:http://forcedtomode.de/wordpress/?post_type=audiotheme_gig&#038;p=790
URL:https://forcedtomode.de/shows/uerstenwalde-stadtfest-open-air/
DTSTART;TZID=GMT:20160528T180000
SUMMARY:Stadtfest (Open Air)
LOCATION:Stadtfest Fürstenwalde\, Am Markt 4\, Fürstenwalde\, (GER)\, Germany\, 15517
END:VEVENT
END:VCALENDAR
