BEGIN:VCALENDAR
VERSION:2.0
PRODID:-//AudioTheme 2.3.8
BEGIN:VEVENT
UID:urn:uuid:724667e2-6b4a-490a-8b0c-bd445b4bfc36
URL:https://forcedtomode.de/shows/veranstaltungshaus-elsterland-3/
DTSTART;TZID=GMT:20231201T190000
SUMMARY:Veranstaltungshaus Elsterland
DESCRIPTION:INFO + TICKETS
LOCATION:Veranstaltungshaus Elsterland\, Betonwerkstrasse 5\, Zahna-Elster OT Elster/Elbe\, (GER)\, Germany\, 06895
END:VEVENT
END:VCALENDAR
