BEGIN:VCALENDAR
VERSION:2.0
PRODID:-//AudioTheme 2.3.8
BEGIN:VEVENT
UID:urn:uuid:3156582e-a82d-46b9-a2f4-f5ead8b816ac
URL:https://forcedtomode.de/shows/wave-gotik-treffen-2/
DTSTART;TZID=GMT:20230529T163000
SUMMARY:Wave-Gotik-Treffen
DESCRIPTION:INFO + TICKETS
LOCATION:Agra Halle\, Bornaische Straße 210 ·\, Leipzig\, (GER)\, Germany\, 04279
END:VEVENT
END:VCALENDAR
