BEGIN:VCALENDAR
VERSION:2.0
PRODID:-//AudioTheme 2.3.8
BEGIN:VEVENT
UID:urn:uuid:9f33686b-f065-491e-a2bd-41e77f81395d
URL:https://forcedtomode.de/shows/westand-6/
DTSTART;TZID=GMT:20220917T180000
SUMMARY:Westand
DESCRIPTION:INFO + TICKETS // 2O+2O SPECIAL 2
LOCATION:westand Event- und Kulturzentrum\, Westbahnhof 13\,\, Braunschweig\, (GER)\, Germany\, 38118
END:VEVENT
END:VCALENDAR
