BEGIN:VCALENDAR
VERSION:2.0
PRODID:-//AudioTheme 2.3.8
BEGIN:VEVENT
UID:http://forcedtomode.de/wordpress/?post_type=audiotheme_gig&#038;p=818
URL:https://forcedtomode.de/shows/zur-linde-2/
DTSTART;TZID=GMT:20160305T190000
SUMMARY:Zur Linde
LOCATION:Affalter\, Hauptstraße 52\,\, Lößnitz\, (GER)\, Deutschland\, 08294
END:VEVENT
END:VCALENDAR
